BEGIN:VCALENDAR
VERSION:2.0
PRODID:-//wp-events-plugin.com//7.2.3.1//EN
TZID:Europe/London
X-WR-TIMEZONE:Europe/London
BEGIN:VEVENT
UID:1291@fps.org
DTSTART;TZID=Europe/London:20260506T190000
DTEND;TZID=Europe/London:20260506T190000
DTSTAMP:20260413T105629Z
URL:https://www.fps.org/events/courageous-conversations-about-israel/
SUMMARY:Courageous Conversations about Israel
DESCRIPTION:With Rabbi Rebecca and Paul Silver-Myer.
ATTACH;FMTTYPE=image/jpeg:https://www.fps.org/wp-content/uploads/2026/04/S
 creenshot-2026-04-13-at-11.54.56.png
CATEGORIES:Featured
END:VEVENT
BEGIN:VTIMEZONE
TZID:Europe/London
X-LIC-LOCATION:Europe/London
BEGIN:DAYLIGHT
DTSTART:20260329T020000
TZOFFSETFROM:+0000
TZOFFSETTO:+0100
TZNAME:BST
END:DAYLIGHT
END:VTIMEZONE
END:VCALENDAR